BEGIN:VCALENDAR
VERSION:2.0
PRODID:-//FVHS Vocal Music Program - ECPv6.15.11//NONSGML v1.0//EN
CALSCALE:GREGORIAN
METHOD:PUBLISH
X-WR-CALNAME:FVHS Vocal Music Program
X-ORIGINAL-URL:https://fvhsvocalmusic.com
X-WR-CALDESC:Events for FVHS Vocal Music Program
REFRESH-INTERVAL;VALUE=DURATION:PT1H
X-Robots-Tag:noindex
X-PUBLISHED-TTL:PT1H
BEGIN:VTIMEZONE
TZID:America/Los_Angeles
BEGIN:DAYLIGHT
TZOFFSETFROM:-0800
TZOFFSETTO:-0700
TZNAME:PDT
DTSTART:20230312T100000
END:DAYLIGHT
BEGIN:STANDARD
TZOFFSETFROM:-0700
TZOFFSETTO:-0800
TZNAME:PST
DTSTART:20231105T090000
END:STANDARD
BEGIN:DAYLIGHT
TZOFFSETFROM:-0800
TZOFFSETTO:-0700
TZNAME:PDT
DTSTART:20240310T100000
END:DAYLIGHT
BEGIN:STANDARD
TZOFFSETFROM:-0700
TZOFFSETTO:-0800
TZNAME:PST
DTSTART:20241103T090000
END:STANDARD
BEGIN:DAYLIGHT
TZOFFSETFROM:-0800
TZOFFSETTO:-0700
TZNAME:PDT
DTSTART:20250309T100000
END:DAYLIGHT
BEGIN:STANDARD
TZOFFSETFROM:-0700
TZOFFSETTO:-0800
TZNAME:PST
DTSTART:20251102T090000
END:STANDARD
END:VTIMEZONE
BEGIN:VEVENT
DTSTART;TZID=America/Los_Angeles:20240304T183000
DTEND;TZID=America/Los_Angeles:20240304T203000
DTSTAMP:20260425T063938
CREATED:20240218T023400Z
LAST-MODIFIED:20240218T023400Z
UID:2945-1709577000-1709584200@fvhsvocalmusic.com
SUMMARY:Pinot's Palette Fundraiser
DESCRIPTION:PINOTâ€™S PALETTE FUNDRAISER ðŸŽ¨ðŸŒŸ \nIndulge your artistic spirit and support a meaningful cause at our Pinot’s Palette Fundraiser! ðŸ–Œï¸ðŸ· \nðŸ“… Date: March 4\, 2024\nðŸ•’ Time: 6:30 PM – 8:30 PM\nðŸ“ Location: 7811 Edinger Ave #110\, Huntington Beach\, CA 92647 \nðŸŒˆ What to Expect:\nImmerse yourself in an evening of artistic delight as we come together for a fantastic fundraiser at Pinot’s Palette! Unleash your inner artist with step-by-step guidance from our talented instructors. Whether you’re a seasoned painter or a first-timer\, this event is perfect for all skill levels. \nðŸŽ‰ Why Attend:\nNot only will you create a beautiful masterpiece to take home\, but you’ll also be contributing to a meaningful cause! A portion of the proceeds will go directly to the Fountain Valley Vocal Music Program\, making your strokes on canvas count for something bigger. \nðŸ· Sip\, Paint\, and Socialize:\nEnjoy a laid-back atmosphere with friends\, old and new. We encourage you to have your favorite beverage to enhance the creative vibe â€“ after all\, what’s painting without a little sip of inspiration? \nðŸŽŸï¸ Tickets:\nSecure your spot now! Limited tickets available\, so act fast. Visit bit.ly/fvhschoirpinotspalette (linked in LinkTree)to reserve your canvas and contribute to a wonderful cause. \nLet’s paint a brighter future together! ðŸŒŸðŸ–¼ï¸ Don’t miss out on this unique opportunity to create art\, connect with others\, and make a positive impact. See you at Pinot’s Palette Fundraiser! \n–\n–\n–\n–\n– \n#fvhschoir #choir #fundraiser #B4L #PaintForACause #PinotsPaletteFundraiser #CommunityArtEvent
URL:https://fvhsvocalmusic.com/event/pinots-palette-fundraiser/
LOCATION:Pinot’s Palette – Huntington Beach\, 7811 Edinger Ave #110\, Huntington Beach\, CA\, 92647\, United States
END:VEVENT
END:VCALENDAR