BEGIN:VCALENDAR
VERSION:2.0
PRODID:-//FVHS Vocal Music Program - ECPv6.15.11//NONSGML v1.0//EN
CALSCALE:GREGORIAN
METHOD:PUBLISH
X-WR-CALNAME:FVHS Vocal Music Program
X-ORIGINAL-URL:https://fvhsvocalmusic.com
X-WR-CALDESC:Events for FVHS Vocal Music Program
REFRESH-INTERVAL;VALUE=DURATION:PT1H
X-Robots-Tag:noindex
X-PUBLISHED-TTL:PT1H
BEGIN:VTIMEZONE
TZID:America/Los_Angeles
BEGIN:DAYLIGHT
TZOFFSETFROM:-0800
TZOFFSETTO:-0700
TZNAME:PDT
DTSTART:20230312T100000
END:DAYLIGHT
BEGIN:STANDARD
TZOFFSETFROM:-0700
TZOFFSETTO:-0800
TZNAME:PST
DTSTART:20231105T090000
END:STANDARD
BEGIN:DAYLIGHT
TZOFFSETFROM:-0800
TZOFFSETTO:-0700
TZNAME:PDT
DTSTART:20240310T100000
END:DAYLIGHT
BEGIN:STANDARD
TZOFFSETFROM:-0700
TZOFFSETTO:-0800
TZNAME:PST
DTSTART:20241103T090000
END:STANDARD
BEGIN:DAYLIGHT
TZOFFSETFROM:-0800
TZOFFSETTO:-0700
TZNAME:PDT
DTSTART:20250309T100000
END:DAYLIGHT
BEGIN:STANDARD
TZOFFSETFROM:-0700
TZOFFSETTO:-0800
TZNAME:PST
DTSTART:20251102T090000
END:STANDARD
END:VTIMEZONE
BEGIN:VEVENT
DTSTART;TZID=America/Los_Angeles:20240916T183000
DTEND;TZID=America/Los_Angeles:20240916T200000
DTSTAMP:20260424T202258
CREATED:20240817T015252Z
LAST-MODIFIED:20240916T052335Z
UID:3033-1726511400-1726516800@fvhsvocalmusic.com
SUMMARY:Vocal Music Parent Orientation Meeting
DESCRIPTION:PARENT ORIENTATION MEETING ðŸ“†ðŸ“ \nMARK YOUR CALENDARS!! There will be a student/parent meeting in the CAFETERIA on MONDAY\, SEPTEMBER 16TH from 6:00 PM â€“ 8:00 PM for all VMP families. Please have each student represented by AT LEAST one parent or guardian! This meeting will discuss important information about the coming year. \nThe FVHS Vocal Music website will be updated with student and parent registrations soon. Visit the LinkTree (linked in bio) for the website and registration forms! \nPlease bring some form of payment (cash\, checkbook\, or credit card). DM us with any questions! \nâ€“\nâ€“\nâ€“\nâ€“\nâ€“ \n#fvhsvocalmusic #fvhschoir #backtoschool #orientation#barons #fvhs #b4l
URL:https://fvhsvocalmusic.com/event/vocal-music-parent-orientation-meeting-2/
LOCATION:FVHS Cafeteria\, 17816 Bushard St\, Fountain Valley\, CA\, 92708\, United States
ATTACH;FMTTYPE=image/png:https://fvhsvocalmusic.com/wp-content/uploads/2023/08/Website-Calendar-Headers.png
END:VEVENT
END:VCALENDAR