BEGIN:VCALENDAR
VERSION:2.0
PRODID:-//FVHS Vocal Music Program - ECPv6.15.11//NONSGML v1.0//EN
CALSCALE:GREGORIAN
METHOD:PUBLISH
X-ORIGINAL-URL:https://fvhsvocalmusic.com
X-WR-CALDESC:Events for FVHS Vocal Music Program
REFRESH-INTERVAL;VALUE=DURATION:PT1H
X-Robots-Tag:noindex
X-PUBLISHED-TTL:PT1H
BEGIN:VTIMEZONE
TZID:America/Los_Angeles
BEGIN:DAYLIGHT
TZOFFSETFROM:-0800
TZOFFSETTO:-0700
TZNAME:PDT
DTSTART:20230312T100000
END:DAYLIGHT
BEGIN:STANDARD
TZOFFSETFROM:-0700
TZOFFSETTO:-0800
TZNAME:PST
DTSTART:20231105T090000
END:STANDARD
BEGIN:DAYLIGHT
TZOFFSETFROM:-0800
TZOFFSETTO:-0700
TZNAME:PDT
DTSTART:20240310T100000
END:DAYLIGHT
BEGIN:STANDARD
TZOFFSETFROM:-0700
TZOFFSETTO:-0800
TZNAME:PST
DTSTART:20241103T090000
END:STANDARD
BEGIN:DAYLIGHT
TZOFFSETFROM:-0800
TZOFFSETTO:-0700
TZNAME:PDT
DTSTART:20250309T100000
END:DAYLIGHT
BEGIN:STANDARD
TZOFFSETFROM:-0700
TZOFFSETTO:-0800
TZNAME:PST
DTSTART:20251102T090000
END:STANDARD
END:VTIMEZONE
BEGIN:VEVENT
DTSTART;TZID=America/Los_Angeles:20240927T160000
DTEND;TZID=America/Los_Angeles:20240927T210000
DTSTAMP:20260424T202522
CREATED:20240817T015631Z
LAST-MODIFIED:20240817T015631Z
UID:3038-1727452800-1727470800@fvhsvocalmusic.com
SUMMARY:Welcome Back Beach BBQ
DESCRIPTION:WELCOME BACK BARONS! \nCome join us SEPTEMBER 27TH from 4:00PM â€“ 9:00PM near LIFEGUARD TOWER 11 OFF MAGNOLIA for our annual beach bonfire! This is our FIRST social of the year â€“ donâ€™t miss the opportunity to meet new people!! \nHotdogs and pizza will be provided by the VMPA. We greatly appreciate donations for this event! \nDM us with any questions or concerns! \nâ€“ \n#fvhsvocalmusic #fvhschoir #bonfire #beach #backtoschool
URL:https://fvhsvocalmusic.com/event/welcome-back-beach-bbq-2/
ATTACH;FMTTYPE=image/png:https://fvhsvocalmusic.com/wp-content/uploads/2023/08/Website-Calendar-Headers-2.png
END:VEVENT
END:VCALENDAR