BEGIN:VCALENDAR
VERSION:2.0
PRODID:-//FVHS Vocal Music Program - ECPv6.15.11//NONSGML v1.0//EN
CALSCALE:GREGORIAN
METHOD:PUBLISH
X-WR-CALNAME:FVHS Vocal Music Program
X-ORIGINAL-URL:https://fvhsvocalmusic.com
X-WR-CALDESC:Events for FVHS Vocal Music Program
REFRESH-INTERVAL;VALUE=DURATION:PT1H
X-Robots-Tag:noindex
X-PUBLISHED-TTL:PT1H
BEGIN:VTIMEZONE
TZID:America/Los_Angeles
BEGIN:DAYLIGHT
TZOFFSETFROM:-0800
TZOFFSETTO:-0700
TZNAME:PDT
DTSTART:20240310T100000
END:DAYLIGHT
BEGIN:STANDARD
TZOFFSETFROM:-0700
TZOFFSETTO:-0800
TZNAME:PST
DTSTART:20241103T090000
END:STANDARD
BEGIN:DAYLIGHT
TZOFFSETFROM:-0800
TZOFFSETTO:-0700
TZNAME:PDT
DTSTART:20250309T100000
END:DAYLIGHT
BEGIN:STANDARD
TZOFFSETFROM:-0700
TZOFFSETTO:-0800
TZNAME:PST
DTSTART:20251102T090000
END:STANDARD
BEGIN:DAYLIGHT
TZOFFSETFROM:-0800
TZOFFSETTO:-0700
TZNAME:PDT
DTSTART:20260308T100000
END:DAYLIGHT
BEGIN:STANDARD
TZOFFSETFROM:-0700
TZOFFSETTO:-0800
TZNAME:PST
DTSTART:20261101T090000
END:STANDARD
END:VTIMEZONE
BEGIN:VEVENT
DTSTART;VALUE=DATE:20250429
DTEND;VALUE=DATE:20250502
DTSTAMP:20260424T065817
CREATED:20240817T021951Z
LAST-MODIFIED:20240817T021951Z
UID:3060-1745884800-1746143999@fvhsvocalmusic.com
SUMMARY:Broadway Tech Week
DESCRIPTION:
URL:https://fvhsvocalmusic.com/event/broadway-tech-week/
ATTACH;FMTTYPE=image/png:https://fvhsvocalmusic.com/wp-content/uploads/2024/05/Screenshot-2024-05-06-at-10.54.26â€¯PM.png
END:VEVENT
BEGIN:VEVENT
DTSTART;VALUE=DATE:20250430
DTEND;VALUE=DATE:20250502
DTSTAMP:20260424T065817
CREATED:20240817T022104Z
LAST-MODIFIED:20250429T153724Z
UID:3062-1745971200-1746143999@fvhsvocalmusic.com
SUMMARY:Broadway Performances
DESCRIPTION:
URL:https://fvhsvocalmusic.com/event/broadway-performances/
ATTACH;FMTTYPE=image/jpeg:https://fvhsvocalmusic.com/wp-content/uploads/2024/05/IMG_4406-1-scaled.jpg
END:VEVENT
END:VCALENDAR