BEGIN:VCALENDAR
VERSION:2.0
PRODID:-//FVHS Vocal Music Program - ECPv6.15.11//NONSGML v1.0//EN
CALSCALE:GREGORIAN
METHOD:PUBLISH
X-ORIGINAL-URL:https://fvhsvocalmusic.com
X-WR-CALDESC:Events for FVHS Vocal Music Program
REFRESH-INTERVAL;VALUE=DURATION:PT1H
X-Robots-Tag:noindex
X-PUBLISHED-TTL:PT1H
BEGIN:VTIMEZONE
TZID:America/Los_Angeles
BEGIN:DAYLIGHT
TZOFFSETFROM:-0800
TZOFFSETTO:-0700
TZNAME:PDT
DTSTART:20220313T100000
END:DAYLIGHT
BEGIN:STANDARD
TZOFFSETFROM:-0700
TZOFFSETTO:-0800
TZNAME:PST
DTSTART:20221106T090000
END:STANDARD
BEGIN:DAYLIGHT
TZOFFSETFROM:-0800
TZOFFSETTO:-0700
TZNAME:PDT
DTSTART:20230312T100000
END:DAYLIGHT
BEGIN:STANDARD
TZOFFSETFROM:-0700
TZOFFSETTO:-0800
TZNAME:PST
DTSTART:20231105T090000
END:STANDARD
BEGIN:DAYLIGHT
TZOFFSETFROM:-0800
TZOFFSETTO:-0700
TZNAME:PDT
DTSTART:20240310T100000
END:DAYLIGHT
BEGIN:STANDARD
TZOFFSETFROM:-0700
TZOFFSETTO:-0800
TZNAME:PST
DTSTART:20241103T090000
END:STANDARD
BEGIN:DAYLIGHT
TZOFFSETFROM:-0800
TZOFFSETTO:-0700
TZNAME:PDT
DTSTART:20250309T100000
END:DAYLIGHT
BEGIN:STANDARD
TZOFFSETFROM:-0700
TZOFFSETTO:-0800
TZNAME:PST
DTSTART:20251102T090000
END:STANDARD
END:VTIMEZONE
BEGIN:VEVENT
DTSTART;VALUE=DATE:20240214
DTEND;VALUE=DATE:20240215
DTSTAMP:20260423T153221
CREATED:20230814T030018Z
LAST-MODIFIED:20230814T030018Z
UID:2610-1707868800-1707955199@fvhsvocalmusic.com
SUMMARY:Valentine Gram Distribution
DESCRIPTION:
URL:https://fvhsvocalmusic.com/event/valentine-gram-distribution/
LOCATION:FVHS\, 17816 Bushard St\, Fountain Valley\, CA\, 92708\, United States
ATTACH;FMTTYPE=image/jpeg:https://fvhsvocalmusic.com/wp-content/uploads/2023/08/MG_0390-scaled.jpg
END:VEVENT
BEGIN:VEVENT
DTSTART;TZID=America/Los_Angeles:20240213T174500
DTEND;TZID=America/Los_Angeles:20240213T190000
DTSTAMP:20260423T153221
CREATED:20230814T025909Z
LAST-MODIFIED:20230814T025909Z
UID:2608-1707846300-1707850800@fvhsvocalmusic.com
SUMMARY:Valentine Gram Showcase
DESCRIPTION:
URL:https://fvhsvocalmusic.com/event/valentine-gram-showcase/
LOCATION:FVHS\, 17816 Bushard St\, Fountain Valley\, CA\, 92708\, United States
ATTACH;FMTTYPE=image/jpeg:https://fvhsvocalmusic.com/wp-content/uploads/2023/08/MG_0438-scaled.jpg
END:VEVENT
BEGIN:VEVENT
DTSTART;VALUE=DATE:20240126
DTEND;VALUE=DATE:20240129
DTSTAMP:20260423T153221
CREATED:20230814T025726Z
LAST-MODIFIED:20240108T004145Z
UID:2606-1706227200-1706486399@fvhsvocalmusic.com
SUMMARY:Winter Retreat (Troubadours)
DESCRIPTION:
URL:https://fvhsvocalmusic.com/event/winter-retreat-troubadours/
LOCATION:CA
ATTACH;FMTTYPE=image/jpeg:https://fvhsvocalmusic.com/wp-content/uploads/2023/08/329197981_604464128160123_8345174462510001325_n.jpg
END:VEVENT
BEGIN:VEVENT
DTSTART;VALUE=DATE:20231222
DTEND;VALUE=DATE:20240108
DTSTAMP:20260423T153221
CREATED:20230814T025525Z
LAST-MODIFIED:20230814T025525Z
UID:2604-1703203200-1704671999@fvhsvocalmusic.com
SUMMARY:WINTER BREAK
DESCRIPTION:
URL:https://fvhsvocalmusic.com/event/winter-break/
LOCATION:CA
END:VEVENT
BEGIN:VEVENT
DTSTART;VALUE=DATE:20231218
DTEND;VALUE=DATE:20231221
DTSTAMP:20260423T153221
CREATED:20230814T025404Z
LAST-MODIFIED:20230919T064118Z
UID:2601-1702857600-1703116799@fvhsvocalmusic.com
SUMMARY:Home for the Holidays Concert
DESCRIPTION:
URL:https://fvhsvocalmusic.com/event/home-for-the-holidays-concert/
LOCATION:St. Wilfrid’s Church\, 18631 Chapel Ln\, Huntington Beach\, CA\, 92646\, United States
ATTACH;FMTTYPE=image/png:https://fvhsvocalmusic.com/wp-content/uploads/2023/08/Home-of-the-Holidays-WEBSITE-COVER-2.png
END:VEVENT
BEGIN:VEVENT
DTSTART;VALUE=DATE:20231118
DTEND;VALUE=DATE:20231127
DTSTAMP:20260423T153221
CREATED:20230812T204015Z
LAST-MODIFIED:20230812T204015Z
UID:2599-1700265600-1701043199@fvhsvocalmusic.com
SUMMARY:THANKSGIVING BREAK
DESCRIPTION:
URL:https://fvhsvocalmusic.com/event/thanksgiving-break/
LOCATION:CA
END:VEVENT
BEGIN:VEVENT
DTSTART;TZID=America/Los_Angeles:20231106T183000
DTEND;TZID=America/Los_Angeles:20231106T194500
DTSTAMP:20260423T153221
CREATED:20230812T200331Z
LAST-MODIFIED:20231005T184741Z
UID:2578-1699295400-1699299900@fvhsvocalmusic.com
SUMMARY:Turning: A Journey Through Life's Seasons (Fall Concert)
DESCRIPTION:
URL:https://fvhsvocalmusic.com/event/fall-concert/
LOCATION:Shoreline Church\, 10350 Ellis Ave\, Fountain Valley\, CA\, 92708\, United States
ATTACH;FMTTYPE=image/png:https://fvhsvocalmusic.com/wp-content/uploads/2023/08/Turning-A-Journey-Through-Lifes-Seasons-WEBSITE-COVER-2.png
END:VEVENT
BEGIN:VEVENT
DTSTART;VALUE=DATE:20231103
DTEND;VALUE=DATE:20231106
DTSTAMP:20260423T153221
CREATED:20230812T203703Z
LAST-MODIFIED:20230814T035225Z
UID:2596-1698969600-1699228799@fvhsvocalmusic.com
SUMMARY:Fall Retreat (Concert Choir)
DESCRIPTION:
URL:https://fvhsvocalmusic.com/event/fall-retreat-concert-choir/
LOCATION:Pali Mountain Conference – Running Springs\, 30778 CA-18\, Running Springs\, CA\, 92382\, United States
ATTACH;FMTTYPE=image/jpeg:https://fvhsvocalmusic.com/wp-content/uploads/2021/12/IMG_1507-scaled.jpg
END:VEVENT
BEGIN:VEVENT
DTSTART;VALUE=DATE:20231027
DTEND;VALUE=DATE:20231028
DTSTAMP:20260423T153221
CREATED:20230812T203307Z
LAST-MODIFIED:20230812T203307Z
UID:2593-1698364800-1698451199@fvhsvocalmusic.com
SUMMARY:Homecoming Game (TBs) Performance
DESCRIPTION:
URL:https://fvhsvocalmusic.com/event/homecoming-game-tbs-performance/
LOCATION:HBHS\, 1905 Main St\, Huntington Beach\, CA\, 92648\, United States
ATTACH;FMTTYPE=image/jpeg:https://fvhsvocalmusic.com/wp-content/uploads/2023/08/HOCOassembly3-scaled.jpeg
END:VEVENT
BEGIN:VEVENT
DTSTART;TZID=America/Los_Angeles:20231021T160000
DTEND;TZID=America/Los_Angeles:20231021T220000
DTSTAMP:20260423T153221
CREATED:20230812T202152Z
LAST-MODIFIED:20230812T202813Z
UID:2586-1697904000-1697925600@fvhsvocalmusic.com
SUMMARY:Fall Festival & Haunted Maze
DESCRIPTION:FALL FESTIVAL 2022 ðŸŽƒðŸ‘» Join us on a tour to DIE for!! Come join the Vocal Music Program and over 90 FVHS clubs at Fall Festival on SATURDAY\, OCTOBER 21TH from 4:00-10:00 PM!! The Vocal Music Program and our clubs will have A HUGE variety of delicious food and game booths! BUT MOST IMPORTANTLY\, THE CAMPUS WIDE HAUNTED MAZE RETURNS AS AN ABANDONED GHOST TOWN!! Entry into Fall Fest begins only at $5 which includes one ticket – come out and support your clubs!! – – – – – #fvhsvocalmusic #fvhschoir #fvhs #fvhsfallfestival#hauntedmaze #ghosttown
URL:https://fvhsvocalmusic.com/event/fall-festival-haunted-maze/
LOCATION:FVHS\, 17816 Bushard St\, Fountain Valley\, CA\, 92708\, United States
ATTACH;FMTTYPE=image/png:https://fvhsvocalmusic.com/wp-content/uploads/2023/08/Screenshot-2023-08-12-at-1.28.06-PM.png
END:VEVENT
BEGIN:VEVENT
DTSTART;VALUE=DATE:20231020
DTEND;VALUE=DATE:20231021
DTSTAMP:20260423T153221
CREATED:20230812T201400Z
LAST-MODIFIED:20230814T035058Z
UID:2582-1697760000-1697846399@fvhsvocalmusic.com
SUMMARY:Bell Game (Concert Choir) Performance
DESCRIPTION:
URL:https://fvhsvocalmusic.com/event/bell-game-concert-choir-performance/
LOCATION:OCC\, 2701 Fairview Rd\, Costa Mesa\, CA\, 92708\, United States
ATTACH;FMTTYPE=image/jpeg:https://fvhsvocalmusic.com/wp-content/uploads/2021/12/IMG_0957-scaled.jpg
END:VEVENT
BEGIN:VEVENT
DTSTART;TZID=America/Los_Angeles:20230922T160000
DTEND;TZID=America/Los_Angeles:20230922T210000
DTSTAMP:20260423T153221
CREATED:20230812T194606Z
LAST-MODIFIED:20230919T071206Z
UID:2571-1695398400-1695416400@fvhsvocalmusic.com
SUMMARY:Welcome Back Beach BBQ
DESCRIPTION:WELCOME BACK BARONS! \nCome join us SEPTEMBER 22TH from 4:00PM – 9:00PM near LIFEGUARD TOWER 11 OFF MAGNOLIA for our annual beach bonfire! This is our FIRST social of the year – donâ€™t miss the opportunity to meet new people!! \nHotdogs and pizza will be provided by the VMPA. We greatly appreciate donations for this event! \nDM us with any questions or concerns! \n– \n#fvhsvocalmusic #fvhschoir #bonfire #beach #backtoschool
URL:https://fvhsvocalmusic.com/event/welcome-back-beach-bbq/
LOCATION:CA
ATTACH;FMTTYPE=image/png:https://fvhsvocalmusic.com/wp-content/uploads/2023/08/Bonfire-WEBSITE-COVER.png
END:VEVENT
BEGIN:VEVENT
DTSTART;TZID=America/Los_Angeles:20230912T183000
DTEND;TZID=America/Los_Angeles:20230912T200000
DTSTAMP:20260423T153221
CREATED:20230812T190007Z
LAST-MODIFIED:20230906T213733Z
UID:2562-1694543400-1694548800@fvhsvocalmusic.com
SUMMARY:Vocal Music Parent Orientation Meeting
DESCRIPTION:PARENT ORIENTATION MEETING ðŸ“†ðŸ“ \nMARK YOUR CALENDARS!! There will be a student/parent meeting in the CAFETERIA on TUESDAY\, SEPTEMBER 12TH from 6:30 PM – 8:00 PM for all VMP families. Please have each student represented by AT LEAST one parent or guardian! This meeting will discuss important information about the coming year. \nThe FVHS Vocal Music website will be updated with student and parent registrations soon. Visit the LinkTree (linked in bio) for the website and registration forms! \nPlease bring some form of payment (cash\, checkbook\, or credit card). DM us with any questions! \n–\n–\n–\n–\n– \n#fvhsvocalmusic #fvhschoir #backtoschool #orientation#barons #fvhs #b4l
URL:https://fvhsvocalmusic.com/event/vocal-music-parent-orientation-meeting/
LOCATION:FVHS Cafeteria\, 17816 Bushard St\, Fountain Valley\, CA\, 92708\, United States
ATTACH;FMTTYPE=image/png:https://fvhsvocalmusic.com/wp-content/uploads/2023/08/Website-Calendar-Headers.png
END:VEVENT
END:VCALENDAR