BEGIN:VCALENDAR
VERSION:2.0
PRODID:-//FVHS Vocal Music Program - ECPv6.15.11//NONSGML v1.0//EN
CALSCALE:GREGORIAN
METHOD:PUBLISH
X-ORIGINAL-URL:https://fvhsvocalmusic.com
X-WR-CALDESC:Events for FVHS Vocal Music Program
REFRESH-INTERVAL;VALUE=DURATION:PT1H
X-Robots-Tag:noindex
X-PUBLISHED-TTL:PT1H
BEGIN:VTIMEZONE
TZID:America/Los_Angeles
BEGIN:DAYLIGHT
TZOFFSETFROM:-0800
TZOFFSETTO:-0700
TZNAME:PDT
DTSTART:20230312T100000
END:DAYLIGHT
BEGIN:STANDARD
TZOFFSETFROM:-0700
TZOFFSETTO:-0800
TZNAME:PST
DTSTART:20231105T090000
END:STANDARD
BEGIN:DAYLIGHT
TZOFFSETFROM:-0800
TZOFFSETTO:-0700
TZNAME:PDT
DTSTART:20240310T100000
END:DAYLIGHT
BEGIN:STANDARD
TZOFFSETFROM:-0700
TZOFFSETTO:-0800
TZNAME:PST
DTSTART:20241103T090000
END:STANDARD
BEGIN:DAYLIGHT
TZOFFSETFROM:-0800
TZOFFSETTO:-0700
TZNAME:PDT
DTSTART:20250309T100000
END:DAYLIGHT
BEGIN:STANDARD
TZOFFSETFROM:-0700
TZOFFSETTO:-0800
TZNAME:PST
DTSTART:20251102T090000
END:STANDARD
END:VTIMEZONE
BEGIN:VEVENT
DTSTART;TZID=America/Los_Angeles:20241014T181500
DTEND;TZID=America/Los_Angeles:20241014T200000
DTSTAMP:20260424T171324
CREATED:20240904T040320Z
LAST-MODIFIED:20240916T172444Z
UID:3079-1728929700-1728936000@fvhsvocalmusic.com
SUMMARY:Fall Preview Concert - Vintage Vibes: A Throwback of Timeless Tunes!
DESCRIPTION:Fall Concert Volunteer Sign-Ups
URL:https://fvhsvocalmusic.com/event/fall-preview-concert-vintage-vibes-a-throwback-of-timeless-tunes/
LOCATION:Shoreline Church\, 10350 Ellis Ave\, Fountain Valley\, CA\, 92708\, United States
END:VEVENT
BEGIN:VEVENT
DTSTART;TZID=America/Los_Angeles:20241026T160000
DTEND;TZID=America/Los_Angeles:20241026T220000
DTSTAMP:20260424T171324
CREATED:20240817T020017Z
LAST-MODIFIED:20240916T172244Z
UID:3044-1729958400-1729980000@fvhsvocalmusic.com
SUMMARY:Fall Festival & Haunted Maze
DESCRIPTION:Fall Fest Volunteer Sign-Ups
URL:https://fvhsvocalmusic.com/event/fall-festival-haunted-maze-2/
ATTACH;FMTTYPE=image/png:https://fvhsvocalmusic.com/wp-content/uploads/2023/08/Screenshot-2023-08-12-at-1.28.06-PM.png
END:VEVENT
END:VCALENDAR