BEGIN:VCALENDAR
VERSION:2.0
PRODID:-//FVHS Vocal Music Program - ECPv6.15.11//NONSGML v1.0//EN
CALSCALE:GREGORIAN
METHOD:PUBLISH
X-WR-CALNAME:FVHS Vocal Music Program
X-ORIGINAL-URL:https://fvhsvocalmusic.com
X-WR-CALDESC:Events for FVHS Vocal Music Program
REFRESH-INTERVAL;VALUE=DURATION:PT1H
X-Robots-Tag:noindex
X-PUBLISHED-TTL:PT1H
BEGIN:VTIMEZONE
TZID:America/Los_Angeles
BEGIN:DAYLIGHT
TZOFFSETFROM:-0800
TZOFFSETTO:-0700
TZNAME:PDT
DTSTART:20230312T100000
END:DAYLIGHT
BEGIN:STANDARD
TZOFFSETFROM:-0700
TZOFFSETTO:-0800
TZNAME:PST
DTSTART:20231105T090000
END:STANDARD
BEGIN:DAYLIGHT
TZOFFSETFROM:-0800
TZOFFSETTO:-0700
TZNAME:PDT
DTSTART:20240310T100000
END:DAYLIGHT
BEGIN:STANDARD
TZOFFSETFROM:-0700
TZOFFSETTO:-0800
TZNAME:PST
DTSTART:20241103T090000
END:STANDARD
BEGIN:DAYLIGHT
TZOFFSETFROM:-0800
TZOFFSETTO:-0700
TZNAME:PDT
DTSTART:20250309T100000
END:DAYLIGHT
BEGIN:STANDARD
TZOFFSETFROM:-0700
TZOFFSETTO:-0800
TZNAME:PST
DTSTART:20251102T090000
END:STANDARD
END:VTIMEZONE
BEGIN:VEVENT
DTSTART;VALUE=DATE:20241101
DTEND;VALUE=DATE:20241103
DTSTAMP:20260424T153036
CREATED:20240817T020154Z
LAST-MODIFIED:20240905T201753Z
UID:3046-1730419200-1730591999@fvhsvocalmusic.com
SUMMARY:Fall Retreat - Cedar Creek Camp (Concert Choir)
DESCRIPTION:
URL:https://fvhsvocalmusic.com/event/fall-retreat-concert-choir-2/
ATTACH;FMTTYPE=image/jpeg:https://fvhsvocalmusic.com/wp-content/uploads/2024/01/IMG_4477-1-scaled.jpg
END:VEVENT
BEGIN:VEVENT
DTSTART;VALUE=DATE:20241103
DTEND;VALUE=DATE:20241104
DTSTAMP:20260424T153036
CREATED:20240905T201848Z
LAST-MODIFIED:20240905T203202Z
UID:3083-1730592000-1730678399@fvhsvocalmusic.com
SUMMARY:Fall Retreat - Cedar Creek Camp (Troubadour Extension)
DESCRIPTION:
URL:https://fvhsvocalmusic.com/event/fall-retreat-cedar-creek-camp-troubadour-extension/
ATTACH;FMTTYPE=image/jpeg:https://fvhsvocalmusic.com/wp-content/uploads/2024/01/IMG_4637-1-scaled.jpg
END:VEVENT
END:VCALENDAR