BEGIN:VCALENDAR
VERSION:2.0
PRODID:-//FVHS Vocal Music Program - ECPv6.15.11//NONSGML v1.0//EN
CALSCALE:GREGORIAN
METHOD:PUBLISH
X-WR-CALNAME:FVHS Vocal Music Program
X-ORIGINAL-URL:https://fvhsvocalmusic.com
X-WR-CALDESC:Events for FVHS Vocal Music Program
REFRESH-INTERVAL;VALUE=DURATION:PT1H
X-Robots-Tag:noindex
X-PUBLISHED-TTL:PT1H
BEGIN:VTIMEZONE
TZID:America/Los_Angeles
BEGIN:DAYLIGHT
TZOFFSETFROM:-0800
TZOFFSETTO:-0700
TZNAME:PDT
DTSTART:20240310T100000
END:DAYLIGHT
BEGIN:STANDARD
TZOFFSETFROM:-0700
TZOFFSETTO:-0800
TZNAME:PST
DTSTART:20241103T090000
END:STANDARD
BEGIN:DAYLIGHT
TZOFFSETFROM:-0800
TZOFFSETTO:-0700
TZNAME:PDT
DTSTART:20250309T100000
END:DAYLIGHT
BEGIN:STANDARD
TZOFFSETFROM:-0700
TZOFFSETTO:-0800
TZNAME:PST
DTSTART:20251102T090000
END:STANDARD
BEGIN:DAYLIGHT
TZOFFSETFROM:-0800
TZOFFSETTO:-0700
TZNAME:PDT
DTSTART:20260308T100000
END:DAYLIGHT
BEGIN:STANDARD
TZOFFSETFROM:-0700
TZOFFSETTO:-0800
TZNAME:PST
DTSTART:20261101T090000
END:STANDARD
END:VTIMEZONE
BEGIN:VEVENT
DTSTART;TZID=America/Los_Angeles:20250309T150000
DTEND;TZID=America/Los_Angeles:20250309T180000
DTSTAMP:20260424T085220
CREATED:20250902T053320Z
LAST-MODIFIED:20250902T053320Z
UID:4524-1741532400-1741543200@fvhsvocalmusic.com
SUMMARY:Broadway - Sitzprobe
DESCRIPTION:
URL:https://fvhsvocalmusic.com/event/broadway-sitzprobe/
LOCATION:FVHS\, 17816 Bushard St\, Fountain Valley\, CA\, 92708\, United States
END:VEVENT
BEGIN:VEVENT
DTSTART;VALUE=DATE:20250312
DTEND;VALUE=DATE:20250318
DTSTAMP:20260424T085220
CREATED:20250902T053422Z
LAST-MODIFIED:20250902T053422Z
UID:4526-1741737600-1742255999@fvhsvocalmusic.com
SUMMARY:Carnegie Hall Performance & Le Son L'Heritage Debut
DESCRIPTION:
URL:https://fvhsvocalmusic.com/event/carnegie-hall-performance-le-son-lheritage-debut/
END:VEVENT
BEGIN:VEVENT
DTSTART;TZID=America/Los_Angeles:20250318T160000
DTEND;TZID=America/Los_Angeles:20250318T200000
DTSTAMP:20260424T085220
CREATED:20250902T053604Z
LAST-MODIFIED:20250902T053604Z
UID:4530-1742313600-1742328000@fvhsvocalmusic.com
SUMMARY:Broadway - Blocking & Tech
DESCRIPTION:
URL:https://fvhsvocalmusic.com/event/broadway-blocking-tech/
END:VEVENT
BEGIN:VEVENT
DTSTART;VALUE=DATE:20250320
DTEND;VALUE=DATE:20250321
DTSTAMP:20260424T085220
CREATED:20250902T053904Z
LAST-MODIFIED:20250902T053904Z
UID:4538-1742428800-1742515199@fvhsvocalmusic.com
SUMMARY:Cal State Fullerton - Invitational Festival
DESCRIPTION:
URL:https://fvhsvocalmusic.com/event/cal-state-fullerton-invitational-festival/
END:VEVENT
BEGIN:VEVENT
DTSTART;TZID=America/Los_Angeles:20250324T181500
DTEND;TZID=America/Los_Angeles:20250324T200000
DTSTAMP:20260424T085220
CREATED:20240905T202811Z
LAST-MODIFIED:20250307T173617Z
UID:3096-1742840100-1742846400@fvhsvocalmusic.com
SUMMARY:Spring Showcase - Landscapes!
DESCRIPTION:
URL:https://fvhsvocalmusic.com/event/spring-showcase-light/
LOCATION:Shoreline Church\, 10350 Ellis Ave\, Fountain Valley\, CA\, 92708\, United States
ATTACH;FMTTYPE=image/jpeg:https://fvhsvocalmusic.com/wp-content/uploads/2024/05/100_1380_Original-scaled.jpg
END:VEVENT
BEGIN:VEVENT
DTSTART;VALUE=DATE:20250327
DTEND;VALUE=DATE:20250401
DTSTAMP:20260424T085220
CREATED:20240817T020924Z
LAST-MODIFIED:20240906T202521Z
UID:3051-1743033600-1743465599@fvhsvocalmusic.com
SUMMARY:Spring Tour - New Orleans (CC/TB/LBV)
DESCRIPTION:
URL:https://fvhsvocalmusic.com/event/spring-tour-oahu-hawaii-cc-tb-lbv/
ATTACH;FMTTYPE=image/jpeg:https://fvhsvocalmusic.com/wp-content/uploads/2023/08/zB1Nb29iqQxzoVkBzkIwTlXEh2TxhnPUQVsUUJgmyg5UuP562760756328020609455-2.jpg
END:VEVENT
END:VCALENDAR