BEGIN:VCALENDAR
VERSION:2.0
PRODID:-//FVHS Vocal Music Program - ECPv6.15.11//NONSGML v1.0//EN
CALSCALE:GREGORIAN
METHOD:PUBLISH
X-ORIGINAL-URL:https://fvhsvocalmusic.com
X-WR-CALDESC:Events for FVHS Vocal Music Program
REFRESH-INTERVAL;VALUE=DURATION:PT1H
X-Robots-Tag:noindex
X-PUBLISHED-TTL:PT1H
BEGIN:VTIMEZONE
TZID:America/Los_Angeles
BEGIN:DAYLIGHT
TZOFFSETFROM:-0800
TZOFFSETTO:-0700
TZNAME:PDT
DTSTART:20240310T100000
END:DAYLIGHT
BEGIN:STANDARD
TZOFFSETFROM:-0700
TZOFFSETTO:-0800
TZNAME:PST
DTSTART:20241103T090000
END:STANDARD
BEGIN:DAYLIGHT
TZOFFSETFROM:-0800
TZOFFSETTO:-0700
TZNAME:PDT
DTSTART:20250309T100000
END:DAYLIGHT
BEGIN:STANDARD
TZOFFSETFROM:-0700
TZOFFSETTO:-0800
TZNAME:PST
DTSTART:20251102T090000
END:STANDARD
BEGIN:DAYLIGHT
TZOFFSETFROM:-0800
TZOFFSETTO:-0700
TZNAME:PDT
DTSTART:20260308T100000
END:DAYLIGHT
BEGIN:STANDARD
TZOFFSETFROM:-0700
TZOFFSETTO:-0800
TZNAME:PST
DTSTART:20261101T090000
END:STANDARD
END:VTIMEZONE
BEGIN:VEVENT
DTSTART;TZID=America/Los_Angeles:20250909T181500
DTEND;TZID=America/Los_Angeles:20250909T203000
DTSTAMP:20260423T225008
CREATED:20250902T051118Z
LAST-MODIFIED:20250905T023603Z
UID:4480-1757441700-1757449800@fvhsvocalmusic.com
SUMMARY:Parent Orientation Meeting
DESCRIPTION:
URL:https://fvhsvocalmusic.com/event/parent-orientation-meeting-2/
LOCATION:FVHS Cafeteria\, 17816 Bushard St\, Fountain Valley\, CA\, 92708\, United States
END:VEVENT
BEGIN:VEVENT
DTSTART;TZID=America/Los_Angeles:20250912T160000
DTEND;TZID=America/Los_Angeles:20250912T210000
DTSTAMP:20260423T225008
CREATED:20250902T051401Z
LAST-MODIFIED:20250902T051401Z
UID:4482-1757692800-1757710800@fvhsvocalmusic.com
SUMMARY:Welcome Back Beach BBQ
DESCRIPTION:
URL:https://fvhsvocalmusic.com/event/welcome-back-beach-bbq-3/
LOCATION:Huntington Beach Tower 11
END:VEVENT
BEGIN:VEVENT
DTSTART;VALUE=DATE:20250919
DTEND;VALUE=DATE:20250920
DTSTAMP:20260423T225008
CREATED:20250902T051438Z
LAST-MODIFIED:20250902T051448Z
UID:4485-1758240000-1758326399@fvhsvocalmusic.com
SUMMARY:Bell Game - National Anthem Performance
DESCRIPTION:
URL:https://fvhsvocalmusic.com/event/bell-game-national-anthem-performance/
LOCATION:OCC\, 2701 Fairview Rd\, Costa Mesa\, CA\, 92708\, United States
END:VEVENT
END:VCALENDAR