BEGIN:VCALENDAR
VERSION:2.0
PRODID:-//FVHS Vocal Music Program - ECPv6.15.11//NONSGML v1.0//EN
CALSCALE:GREGORIAN
METHOD:PUBLISH
X-ORIGINAL-URL:https://fvhsvocalmusic.com
X-WR-CALDESC:Events for FVHS Vocal Music Program
REFRESH-INTERVAL;VALUE=DURATION:PT1H
X-Robots-Tag:noindex
X-PUBLISHED-TTL:PT1H
BEGIN:VTIMEZONE
TZID:America/Los_Angeles
BEGIN:DAYLIGHT
TZOFFSETFROM:-0800
TZOFFSETTO:-0700
TZNAME:PDT
DTSTART:20240310T100000
END:DAYLIGHT
BEGIN:STANDARD
TZOFFSETFROM:-0700
TZOFFSETTO:-0800
TZNAME:PST
DTSTART:20241103T090000
END:STANDARD
BEGIN:DAYLIGHT
TZOFFSETFROM:-0800
TZOFFSETTO:-0700
TZNAME:PDT
DTSTART:20250309T100000
END:DAYLIGHT
BEGIN:STANDARD
TZOFFSETFROM:-0700
TZOFFSETTO:-0800
TZNAME:PST
DTSTART:20251102T090000
END:STANDARD
BEGIN:DAYLIGHT
TZOFFSETFROM:-0800
TZOFFSETTO:-0700
TZNAME:PDT
DTSTART:20260308T100000
END:DAYLIGHT
BEGIN:STANDARD
TZOFFSETFROM:-0700
TZOFFSETTO:-0800
TZNAME:PST
DTSTART:20261101T090000
END:STANDARD
END:VTIMEZONE
BEGIN:VEVENT
DTSTART;TZID=America/Los_Angeles:20251101T160000
DTEND;TZID=America/Los_Angeles:20251101T220000
DTSTAMP:20260423T195632
CREATED:20250902T052023Z
LAST-MODIFIED:20250925T072100Z
UID:4493-1762012800-1762034400@fvhsvocalmusic.com
SUMMARY:Fall Festival
DESCRIPTION:Fall Festival Volunteers
URL:https://fvhsvocalmusic.com/event/fall-festival/
LOCATION:FVHS\, 17816 Bushard St\, Fountain Valley\, CA\, 92708\, United States
END:VEVENT
BEGIN:VEVENT
DTSTART;VALUE=DATE:20251110
DTEND;VALUE=DATE:20251112
DTSTAMP:20260423T195632
CREATED:20250902T060019Z
LAST-MODIFIED:20250902T060019Z
UID:4572-1762732800-1762905599@fvhsvocalmusic.com
SUMMARY:Veteran's Holiday - NO SCHOOL
DESCRIPTION:
URL:https://fvhsvocalmusic.com/event/veterans-holiday-no-school/
END:VEVENT
BEGIN:VEVENT
DTSTART;VALUE=DATE:20251122
DTEND;VALUE=DATE:20251201
DTSTAMP:20260423T195632
CREATED:20250902T052222Z
LAST-MODIFIED:20250902T055558Z
UID:4497-1763769600-1764547199@fvhsvocalmusic.com
SUMMARY:Thanksgiving Break - NO SCHOOL
DESCRIPTION:
URL:https://fvhsvocalmusic.com/event/thanksgiving-break-2/
END:VEVENT
END:VCALENDAR