BEGIN:VCALENDAR
VERSION:2.0
PRODID:-//FVHS Vocal Music Program - ECPv6.15.11//NONSGML v1.0//EN
CALSCALE:GREGORIAN
METHOD:PUBLISH
X-WR-CALNAME:FVHS Vocal Music Program
X-ORIGINAL-URL:https://fvhsvocalmusic.com
X-WR-CALDESC:Events for FVHS Vocal Music Program
REFRESH-INTERVAL;VALUE=DURATION:PT1H
X-Robots-Tag:noindex
X-PUBLISHED-TTL:PT1H
BEGIN:VTIMEZONE
TZID:America/Los_Angeles
BEGIN:DAYLIGHT
TZOFFSETFROM:-0800
TZOFFSETTO:-0700
TZNAME:PDT
DTSTART:20240310T100000
END:DAYLIGHT
BEGIN:STANDARD
TZOFFSETFROM:-0700
TZOFFSETTO:-0800
TZNAME:PST
DTSTART:20241103T090000
END:STANDARD
BEGIN:DAYLIGHT
TZOFFSETFROM:-0800
TZOFFSETTO:-0700
TZNAME:PDT
DTSTART:20250309T100000
END:DAYLIGHT
BEGIN:STANDARD
TZOFFSETFROM:-0700
TZOFFSETTO:-0800
TZNAME:PST
DTSTART:20251102T090000
END:STANDARD
BEGIN:DAYLIGHT
TZOFFSETFROM:-0800
TZOFFSETTO:-0700
TZNAME:PDT
DTSTART:20260308T100000
END:DAYLIGHT
BEGIN:STANDARD
TZOFFSETFROM:-0700
TZOFFSETTO:-0800
TZNAME:PST
DTSTART:20261101T090000
END:STANDARD
BEGIN:DAYLIGHT
TZOFFSETFROM:-0800
TZOFFSETTO:-0700
TZNAME:PDT
DTSTART:20270314T100000
END:DAYLIGHT
BEGIN:STANDARD
TZOFFSETFROM:-0700
TZOFFSETTO:-0800
TZNAME:PST
DTSTART:20271107T090000
END:STANDARD
END:VTIMEZONE
BEGIN:VEVENT
DTSTART;VALUE=DATE:20251220
DTEND;VALUE=DATE:20260105
DTSTAMP:20260423T164230
CREATED:20250902T052623Z
LAST-MODIFIED:20250902T055519Z
UID:4506-1766188800-1767571199@fvhsvocalmusic.com
SUMMARY:Winter Break - NO SCHOOL
DESCRIPTION:
URL:https://fvhsvocalmusic.com/event/winter-break-2/
END:VEVENT
BEGIN:VEVENT
DTSTART;VALUE=DATE:20260119
DTEND;VALUE=DATE:20260120
DTSTAMP:20260423T164230
CREATED:20250902T052653Z
LAST-MODIFIED:20250902T055540Z
UID:4508-1768780800-1768867199@fvhsvocalmusic.com
SUMMARY:MLK Holiday - NO SCHOOL
DESCRIPTION:
URL:https://fvhsvocalmusic.com/event/mlk-holiday/
END:VEVENT
BEGIN:VEVENT
DTSTART;VALUE=DATE:20260126
DTEND;VALUE=DATE:20260127
DTSTAMP:20260423T164230
CREATED:20250902T052825Z
LAST-MODIFIED:20250902T052825Z
UID:4512-1769385600-1769471999@fvhsvocalmusic.com
SUMMARY:Staff Development Day - NO SCHOOL
DESCRIPTION:
URL:https://fvhsvocalmusic.com/event/staff-development-day-no-school/
END:VEVENT
END:VCALENDAR