BEGIN:VCALENDAR
VERSION:2.0
PRODID:-//FVHS Vocal Music Program - ECPv6.15.11//NONSGML v1.0//EN
CALSCALE:GREGORIAN
METHOD:PUBLISH
X-WR-CALNAME:FVHS Vocal Music Program
X-ORIGINAL-URL:https://fvhsvocalmusic.com
X-WR-CALDESC:Events for FVHS Vocal Music Program
REFRESH-INTERVAL;VALUE=DURATION:PT1H
X-Robots-Tag:noindex
X-PUBLISHED-TTL:PT1H
BEGIN:VTIMEZONE
TZID:America/Los_Angeles
BEGIN:DAYLIGHT
TZOFFSETFROM:-0800
TZOFFSETTO:-0700
TZNAME:PDT
DTSTART:20250309T100000
END:DAYLIGHT
BEGIN:STANDARD
TZOFFSETFROM:-0700
TZOFFSETTO:-0800
TZNAME:PST
DTSTART:20251102T090000
END:STANDARD
BEGIN:DAYLIGHT
TZOFFSETFROM:-0800
TZOFFSETTO:-0700
TZNAME:PDT
DTSTART:20260308T100000
END:DAYLIGHT
BEGIN:STANDARD
TZOFFSETFROM:-0700
TZOFFSETTO:-0800
TZNAME:PST
DTSTART:20261101T090000
END:STANDARD
BEGIN:DAYLIGHT
TZOFFSETFROM:-0800
TZOFFSETTO:-0700
TZNAME:PDT
DTSTART:20270314T100000
END:DAYLIGHT
BEGIN:STANDARD
TZOFFSETFROM:-0700
TZOFFSETTO:-0800
TZNAME:PST
DTSTART:20271107T090000
END:STANDARD
END:VTIMEZONE
BEGIN:VEVENT
DTSTART;VALUE=DATE:20260206
DTEND;VALUE=DATE:20260208
DTSTAMP:20260423T150036
CREATED:20250902T052735Z
LAST-MODIFIED:20260119T010123Z
UID:4510-1770336000-1770508799@fvhsvocalmusic.com
SUMMARY:Winter Retreat
DESCRIPTION:
URL:https://fvhsvocalmusic.com/event/winter-retreat/
END:VEVENT
BEGIN:VEVENT
DTSTART;VALUE=DATE:20260209
DTEND;VALUE=DATE:20260210
DTSTAMP:20260423T150036
CREATED:20250902T052911Z
LAST-MODIFIED:20250902T052911Z
UID:4514-1770595200-1770681599@fvhsvocalmusic.com
SUMMARY:President Holiday - NO SCHOOL
DESCRIPTION:
URL:https://fvhsvocalmusic.com/event/president-holiday-no-school/
END:VEVENT
BEGIN:VEVENT
DTSTART;TZID=America/Los_Angeles:20260212T180000
DTEND;TZID=America/Los_Angeles:20260212T190000
DTSTAMP:20260423T150036
CREATED:20250902T052957Z
LAST-MODIFIED:20250902T052957Z
UID:4516-1770919200-1770922800@fvhsvocalmusic.com
SUMMARY:Valentine Gram Showcase
DESCRIPTION:
URL:https://fvhsvocalmusic.com/event/valentine-gram-showcase-2/
LOCATION:FVHS\, 17816 Bushard St\, Fountain Valley\, CA\, 92708\, United States
END:VEVENT
BEGIN:VEVENT
DTSTART;VALUE=DATE:20260213
DTEND;VALUE=DATE:20260214
DTSTAMP:20260423T150036
CREATED:20250902T053027Z
LAST-MODIFIED:20250902T053027Z
UID:4518-1770940800-1771027199@fvhsvocalmusic.com
SUMMARY:Valentine Gram Delivery
DESCRIPTION:
URL:https://fvhsvocalmusic.com/event/valentine-gram-delivery/
END:VEVENT
BEGIN:VEVENT
DTSTART;VALUE=DATE:20260216
DTEND;VALUE=DATE:20260217
DTSTAMP:20260423T150036
CREATED:20250902T053111Z
LAST-MODIFIED:20250902T060143Z
UID:4520-1771200000-1771286399@fvhsvocalmusic.com
SUMMARY:President Holiday - NO SCHOOL
DESCRIPTION:
URL:https://fvhsvocalmusic.com/event/president-holiday-no-school-2/
END:VEVENT
BEGIN:VEVENT
DTSTART;VALUE=DATE:20260228
DTEND;VALUE=DATE:20260301
DTSTAMP:20260423T150036
CREATED:20250902T053134Z
LAST-MODIFIED:20250902T053134Z
UID:4522-1772236800-1772323199@fvhsvocalmusic.com
SUMMARY:USC Invitational Festival
DESCRIPTION:
URL:https://fvhsvocalmusic.com/event/usc-invitational-festival/
END:VEVENT
END:VCALENDAR